BEGIN:VCALENDAR
VERSION:2.0
PRODID:-//Freiwillige Feuerwehr Horka - ECPv6.15.20//NONSGML v1.0//EN
CALSCALE:GREGORIAN
METHOD:PUBLISH
X-WR-CALNAME:Freiwillige Feuerwehr Horka
X-ORIGINAL-URL:https://www.feuerwehr-horka.de
X-WR-CALDESC:Veranstaltungen für Freiwillige Feuerwehr Horka
REFRESH-INTERVAL;VALUE=DURATION:PT1H
X-Robots-Tag:noindex
X-PUBLISHED-TTL:PT1H
BEGIN:VTIMEZONE
TZID:Europe/Berlin
BEGIN:DAYLIGHT
TZOFFSETFROM:+0100
TZOFFSETTO:+0200
TZNAME:CEST
DTSTART:20240331T010000
END:DAYLIGHT
BEGIN:STANDARD
TZOFFSETFROM:+0200
TZOFFSETTO:+0100
TZNAME:CET
DTSTART:20241027T010000
END:STANDARD
BEGIN:DAYLIGHT
TZOFFSETFROM:+0100
TZOFFSETTO:+0200
TZNAME:CEST
DTSTART:20250330T010000
END:DAYLIGHT
BEGIN:STANDARD
TZOFFSETFROM:+0200
TZOFFSETTO:+0100
TZNAME:CET
DTSTART:20251026T010000
END:STANDARD
BEGIN:DAYLIGHT
TZOFFSETFROM:+0100
TZOFFSETTO:+0200
TZNAME:CEST
DTSTART:20260329T010000
END:DAYLIGHT
BEGIN:STANDARD
TZOFFSETFROM:+0200
TZOFFSETTO:+0100
TZNAME:CET
DTSTART:20261025T010000
END:STANDARD
END:VTIMEZONE
BEGIN:VEVENT
DTSTART;TZID=Europe/Berlin:20250621T170000
DTEND;TZID=Europe/Berlin:20250622T120000
DTSTAMP:20260423T001201
CREATED:20250601T194526Z
LAST-MODIFIED:20250615T075217Z
UID:3118-1750525200-1750593600@www.feuerwehr-horka.de
SUMMARY:3. Sommercup im Löschangriff
DESCRIPTION:Samstag \n17:00 Uhr – Löschangriff-Wettkampf    –   im Anschluss Abendveranstaltung im Festzelt \nSonntag\n10:30 Uhr – Frühschoppen im Festzelt mit den „Original Heideländer Musikanten“ \nSpeisen vom Bürgerhaus Niesky – Hüpfburg – Feuerwehrtechnik zum Anfassen \nWo?\nSportplatz Horka Biehainer Weg 1
URL:https://www.feuerwehr-horka.de/event/3-sommercup-im-loeschangriff/
LOCATION:Sportplatz\, Biehainer Weg 1\, Horka\, Sachsen\, 02923
ATTACH;FMTTYPE=image/jpeg:https://www.feuerwehr-horka.de/wp-content/uploads/2025/06/IMG-20250615-WA0000.jpg
END:VEVENT
END:VCALENDAR